BEGIN:VCALENDAR
VERSION:2.0
PRODID:-//Fountains of Joy - ECPv6.15.20//NONSGML v1.0//EN
CALSCALE:GREGORIAN
METHOD:PUBLISH
X-ORIGINAL-URL:https://fountainsofjoy.nl
X-WR-CALDESC:Evenementen voor Fountains of Joy
REFRESH-INTERVAL;VALUE=DURATION:PT1H
X-Robots-Tag:noindex
X-PUBLISHED-TTL:PT1H
BEGIN:VTIMEZONE
TZID:Europe/Amsterdam
BEGIN:DAYLIGHT
TZOFFSETFROM:+0100
TZOFFSETTO:+0200
TZNAME:CEST
DTSTART:20190331T010000
END:DAYLIGHT
BEGIN:STANDARD
TZOFFSETFROM:+0200
TZOFFSETTO:+0100
TZNAME:CET
DTSTART:20191027T010000
END:STANDARD
BEGIN:DAYLIGHT
TZOFFSETFROM:+0100
TZOFFSETTO:+0200
TZNAME:CEST
DTSTART:20200329T010000
END:DAYLIGHT
BEGIN:STANDARD
TZOFFSETFROM:+0200
TZOFFSETTO:+0100
TZNAME:CET
DTSTART:20201025T010000
END:STANDARD
BEGIN:DAYLIGHT
TZOFFSETFROM:+0100
TZOFFSETTO:+0200
TZNAME:CEST
DTSTART:20210328T010000
END:DAYLIGHT
BEGIN:STANDARD
TZOFFSETFROM:+0200
TZOFFSETTO:+0100
TZNAME:CET
DTSTART:20211031T010000
END:STANDARD
BEGIN:DAYLIGHT
TZOFFSETFROM:+0100
TZOFFSETTO:+0200
TZNAME:CEST
DTSTART:20220327T010000
END:DAYLIGHT
BEGIN:STANDARD
TZOFFSETFROM:+0200
TZOFFSETTO:+0100
TZNAME:CET
DTSTART:20221030T010000
END:STANDARD
BEGIN:DAYLIGHT
TZOFFSETFROM:+0100
TZOFFSETTO:+0200
TZNAME:CEST
DTSTART:20230326T010000
END:DAYLIGHT
BEGIN:STANDARD
TZOFFSETFROM:+0200
TZOFFSETTO:+0100
TZNAME:CET
DTSTART:20231029T010000
END:STANDARD
BEGIN:DAYLIGHT
TZOFFSETFROM:+0100
TZOFFSETTO:+0200
TZNAME:CEST
DTSTART:20240331T010000
END:DAYLIGHT
BEGIN:STANDARD
TZOFFSETFROM:+0200
TZOFFSETTO:+0100
TZNAME:CET
DTSTART:20241027T010000
END:STANDARD
BEGIN:DAYLIGHT
TZOFFSETFROM:+0100
TZOFFSETTO:+0200
TZNAME:CEST
DTSTART:20250330T010000
END:DAYLIGHT
BEGIN:STANDARD
TZOFFSETFROM:+0200
TZOFFSETTO:+0100
TZNAME:CET
DTSTART:20251026T010000
END:STANDARD
BEGIN:DAYLIGHT
TZOFFSETFROM:+0100
TZOFFSETTO:+0200
TZNAME:CEST
DTSTART:20260329T010000
END:DAYLIGHT
BEGIN:STANDARD
TZOFFSETFROM:+0200
TZOFFSETTO:+0100
TZNAME:CET
DTSTART:20261025T010000
END:STANDARD
BEGIN:DAYLIGHT
TZOFFSETFROM:+0100
TZOFFSETTO:+0200
TZNAME:CEST
DTSTART:20270328T010000
END:DAYLIGHT
BEGIN:STANDARD
TZOFFSETFROM:+0200
TZOFFSETTO:+0100
TZNAME:CET
DTSTART:20271031T010000
END:STANDARD
END:VTIMEZONE
BEGIN:VEVENT
DTSTART;TZID=Europe/Amsterdam:20260315T093000
DTEND;TZID=Europe/Amsterdam:20260315T130000
DTSTAMP:20260421T102230
CREATED:20260221T092422Z
LAST-MODIFIED:20260221T092422Z
UID:2010-1773567000-1773579600@fountainsofjoy.nl
SUMMARY:Spreekbeurt Esther
DESCRIPTION:2 spreekbeurten Esther
URL:https://fountainsofjoy.nl/evenement/spreekbeurt-esther-5/
LOCATION:Motion Church\, Wijnesteinlaan 2\, Utrecht\, 3525 AL
END:VEVENT
BEGIN:VEVENT
DTSTART;TZID=Europe/Amsterdam:20260309T193000
DTEND;TZID=Europe/Amsterdam:20260309T220000
DTSTAMP:20260421T102230
CREATED:20260221T093035Z
LAST-MODIFIED:20260221T093035Z
UID:2013-1773084600-1773093600@fountainsofjoy.nl
SUMMARY:Gods stem verstaan
DESCRIPTION:Erik en Esther spreken met studenten over het verstaan van Gods stem.
URL:https://fountainsofjoy.nl/evenement/gods-stem-verstaan/
ORGANIZER;CN="Stichting Fountains of Joy":MAILTO:info@fountainsofjoy.nl
END:VEVENT
BEGIN:VEVENT
DTSTART;VALUE=DATE:20250407
DTEND;VALUE=DATE:20250421
DTSTAMP:20260421T102230
CREATED:20250214T111136Z
LAST-MODIFIED:20250214T111136Z
UID:1889-1743984000-1745193599@fountainsofjoy.nl
SUMMARY:Reis Oeganda
DESCRIPTION:Esther en Louise vertrekken naar Oeganda.
URL:https://fountainsofjoy.nl/evenement/reis-oeganda-4/
LOCATION:Oeganda
ORGANIZER;CN="Stichting Fountains of Joy":MAILTO:info@fountainsofjoy.nl
END:VEVENT
BEGIN:VEVENT
DTSTART;VALUE=DATE:20241107
DTEND;VALUE=DATE:20241124
DTSTAMP:20260421T102230
CREATED:20241016T070235Z
LAST-MODIFIED:20241016T070235Z
UID:1806-1730937600-1732406399@fountainsofjoy.nl
SUMMARY:Reis Oeganda
DESCRIPTION:
URL:https://fountainsofjoy.nl/evenement/reis-oeganda-3/
LOCATION:Oeganda
ORGANIZER;CN="Stichting Fountains of Joy":MAILTO:info@fountainsofjoy.nl
END:VEVENT
BEGIN:VEVENT
DTSTART;TZID=Europe/Amsterdam:20240707T100000
DTEND;TZID=Europe/Amsterdam:20240707T120000
DTSTAMP:20260421T102230
CREATED:20240513T150234Z
LAST-MODIFIED:20240513T150234Z
UID:1740-1720346400-1720353600@fountainsofjoy.nl
SUMMARY:Spreken Erik EGZ
DESCRIPTION:Spreken Erik in de EGZ
URL:https://fountainsofjoy.nl/evenement/spreken-erik-egz/
LOCATION:Evangelische Gemeente Zeewolde\, Kluunpad 15\, Zeewolde\, Netherlands
END:VEVENT
BEGIN:VEVENT
DTSTART;TZID=Europe/Amsterdam:20240310T113000
DTEND;TZID=Europe/Amsterdam:20240310T130000
DTSTAMP:20260421T102230
CREATED:20240126T094422Z
LAST-MODIFIED:20240126T094422Z
UID:1588-1710070200-1710075600@fountainsofjoy.nl
SUMMARY:Spreekbeurt Esther
DESCRIPTION:Spreekbeurt Esther in Motion Church tweede dienst.
URL:https://fountainsofjoy.nl/evenement/spreekbeurt-esther-4/
LOCATION:Motion Church\, Wijnesteinlaan 2\, Utrecht\, 3525 AL
END:VEVENT
BEGIN:VEVENT
DTSTART;TZID=Europe/Amsterdam:20240310T093000
DTEND;TZID=Europe/Amsterdam:20240310T110000
DTSTAMP:20260421T102230
CREATED:20240126T094238Z
LAST-MODIFIED:20240126T094238Z
UID:1585-1710063000-1710068400@fountainsofjoy.nl
SUMMARY:Spreekbeurt Esther
DESCRIPTION:Spreekbeurt Esther in Motion Church.
URL:https://fountainsofjoy.nl/evenement/spreekbeurt-esther-3/
LOCATION:Motion Church\, Wijnesteinlaan 2\, Utrecht\, 3525 AL
END:VEVENT
BEGIN:VEVENT
DTSTART;TZID=Europe/Amsterdam:20240218T100000
DTEND;TZID=Europe/Amsterdam:20240218T120000
DTSTAMP:20260421T102230
CREATED:20240126T093705Z
LAST-MODIFIED:20240126T093705Z
UID:1583-1708250400-1708257600@fountainsofjoy.nl
SUMMARY:Spreekbeurt Esther
DESCRIPTION:Spreekbeurt Esther in de Evangelische Gemeente Zeewolde.
URL:https://fountainsofjoy.nl/evenement/spreekbeurt-esther-2/
LOCATION:Evangelische Gemeente Zeewolde\, Kluunpad 15\, Zeewolde\, Netherlands
END:VEVENT
BEGIN:VEVENT
DTSTART;VALUE=DATE:20231122
DTEND;VALUE=DATE:20231211
DTSTAMP:20260421T102230
CREATED:20231105T131422Z
LAST-MODIFIED:20231105T131422Z
UID:1549-1700611200-1702252799@fountainsofjoy.nl
SUMMARY:Reis Oeganda
DESCRIPTION:
URL:https://fountainsofjoy.nl/evenement/reis-oeganda-2/
LOCATION:Oeganda
ORGANIZER;CN="Stichting Fountains of Joy":MAILTO:info@fountainsofjoy.nl
END:VEVENT
BEGIN:VEVENT
DTSTART;TZID=Europe/Amsterdam:20231112T100000
DTEND;TZID=Europe/Amsterdam:20231112T100000
DTSTAMP:20260421T102230
CREATED:20231105T130820Z
LAST-MODIFIED:20231105T130945Z
UID:1545-1699783200-1699783200@fountainsofjoy.nl
SUMMARY:Spreekbeurt Erik
DESCRIPTION:
URL:https://fountainsofjoy.nl/evenement/spreekbeurt-erik-in-de-egz/
LOCATION:Evangelische Gemeente Zeewolde\, Kluunpad 15\, Zeewolde\, Netherlands
END:VEVENT
BEGIN:VEVENT
DTSTART;TZID=Europe/Amsterdam:20230311T143000
DTEND;TZID=Europe/Amsterdam:20230311T213000
DTSTAMP:20260421T102230
CREATED:20230216T131154Z
LAST-MODIFIED:20230308T130507Z
UID:1402-1678545000-1678570200@fountainsofjoy.nl
SUMMARY:Profetische conferentie
DESCRIPTION:Wil jij ook weten wat Gods gedachten over jou zijn? Wat God tegen jou te vertellen heeft?\nJe bent van harte welkom op onze profetische conferentie. \nWe hebben deze dag twee diensten:\nZaterdagmiddag 11 maart: 14:30 uur – 16:30 uur.\nZaterdagavond 11 maart: 19.30 uur – 21:30 uur. \nDe toegang is gratis\, maar we vragen je wel om even te registreren van tevoren. Dit kan via onderstaande QR-code. Wil je naar beide diensten komen? Blijf gezellig eten! We bieden je graag een gratis maaltijd aan. Je kunt hiervoor ook een reservering maken. \nDe conferentie wordt gehouden in het gebouw van de Evangelische Gemeente Zeewolde. Deze bevindt zich op het Kluunpad 15 in Zeewolde. \nWe zien je heel graag op 11 maart! \nErik & Esther Nagtegaal\nFountains of Joy
URL:https://fountainsofjoy.nl/evenement/profetische-conferentie-4/
END:VEVENT
BEGIN:VEVENT
DTSTART;TZID=Europe/Amsterdam:20221218T100000
DTEND;TZID=Europe/Amsterdam:20221218T120000
DTSTAMP:20260421T102230
CREATED:20221021T071146Z
LAST-MODIFIED:20221021T071146Z
UID:1350-1671357600-1671364800@fountainsofjoy.nl
SUMMARY:Spreekbeurt Erik & Esther
DESCRIPTION:
URL:https://fountainsofjoy.nl/evenement/spreekbeurt-erik-esther/
LOCATION:Evangelische Gemeente Zeewolde\, Kluunpad 15\, Zeewolde\, Netherlands
END:VEVENT
BEGIN:VEVENT
DTSTART;VALUE=DATE:20221113
DTEND;VALUE=DATE:20221202
DTSTAMP:20260421T102230
CREATED:20221021T070656Z
LAST-MODIFIED:20221021T070656Z
UID:1347-1668297600-1669939199@fountainsofjoy.nl
SUMMARY:Reis Oeganda
DESCRIPTION:
URL:https://fountainsofjoy.nl/evenement/reis-oeganda/
LOCATION:Oeganda
ORGANIZER;CN="Stichting Fountains of Joy":MAILTO:info@fountainsofjoy.nl
END:VEVENT
BEGIN:VEVENT
DTSTART;VALUE=DATE:20211201
DTEND;VALUE=DATE:20220101
DTSTAMP:20260421T102230
CREATED:20201202T134727Z
LAST-MODIFIED:20201202T134727Z
UID:391-1638316800-1640995199@fountainsofjoy.nl
SUMMARY:Reis naar Kenia\, Rwanda en Oeganda
DESCRIPTION:
URL:https://fountainsofjoy.nl/evenement/reis-naar-kenia-rwanda-en-oeganda/
ORGANIZER;CN="Stichting Fountains of Joy":MAILTO:info@fountainsofjoy.nl
END:VEVENT
BEGIN:VEVENT
DTSTART;VALUE=DATE:20211101
DTEND;VALUE=DATE:20211201
DTSTAMP:20260421T102230
CREATED:20201202T134644Z
LAST-MODIFIED:20201202T134644Z
UID:389-1635724800-1638316799@fountainsofjoy.nl
SUMMARY:Profetische conferentie
DESCRIPTION:
URL:https://fountainsofjoy.nl/evenement/profetische-conferentie-2/
ORGANIZER;CN="Stichting Fountains of Joy":MAILTO:info@fountainsofjoy.nl
END:VEVENT
BEGIN:VEVENT
DTSTART;VALUE=DATE:20211001
DTEND;VALUE=DATE:20211101
DTSTAMP:20260421T102230
CREATED:20201202T134531Z
LAST-MODIFIED:20201202T134531Z
UID:387-1633046400-1635724799@fountainsofjoy.nl
SUMMARY:Reis naar Servië
DESCRIPTION:
URL:https://fountainsofjoy.nl/evenement/reis-naar-servie/
ORGANIZER;CN="Stichting Fountains of Joy":MAILTO:info@fountainsofjoy.nl
END:VEVENT
BEGIN:VEVENT
DTSTART;VALUE=DATE:20210501
DTEND;VALUE=DATE:20210601
DTSTAMP:20260421T102230
CREATED:20201202T134336Z
LAST-MODIFIED:20201218T142432Z
UID:383-1619827200-1622505599@fountainsofjoy.nl
SUMMARY:Reis naar Oeganda
DESCRIPTION:
URL:https://fountainsofjoy.nl/evenement/reis-naar-oeganda/
ORGANIZER;CN="Stichting Fountains of Joy":MAILTO:info@fountainsofjoy.nl
END:VEVENT
BEGIN:VEVENT
DTSTART;VALUE=DATE:20210401
DTEND;VALUE=DATE:20210402
DTSTAMP:20260421T102230
CREATED:20201202T134447Z
LAST-MODIFIED:20201218T142359Z
UID:385-1617235200-1617235200@fountainsofjoy.nl
SUMMARY:Profetische conferentie
DESCRIPTION:
URL:https://fountainsofjoy.nl/evenement/profetische-conferentie/
ORGANIZER;CN="Stichting Fountains of Joy":MAILTO:info@fountainsofjoy.nl
END:VEVENT
BEGIN:VEVENT
DTSTART;TZID=Europe/Amsterdam:20201203T100000
DTEND;TZID=Europe/Amsterdam:20201203T120000
DTSTAMP:20260421T102230
CREATED:20201202T134128Z
LAST-MODIFIED:20201202T134229Z
UID:381-1606989600-1606996800@fountainsofjoy.nl
SUMMARY:Spreekbeurt Esther
DESCRIPTION:
URL:https://fountainsofjoy.nl/evenement/spreekbeurt-esther/
LOCATION:Evangelische Gemeente Zeewolde\, Kluunpad 15\, Zeewolde\, Netherlands
END:VEVENT
END:VCALENDAR