BEGIN:VCALENDAR
VERSION:2.0
PRODID:-//Fountains of Joy - ECPv6.15.20//NONSGML v1.0//EN
CALSCALE:GREGORIAN
METHOD:PUBLISH
X-ORIGINAL-URL:https://fountainsofjoy.nl
X-WR-CALDESC:Evenementen voor Fountains of Joy
REFRESH-INTERVAL;VALUE=DURATION:PT1H
X-Robots-Tag:noindex
X-PUBLISHED-TTL:PT1H
BEGIN:VTIMEZONE
TZID:Europe/Amsterdam
BEGIN:DAYLIGHT
TZOFFSETFROM:+0100
TZOFFSETTO:+0200
TZNAME:CEST
DTSTART:20190331T010000
END:DAYLIGHT
BEGIN:STANDARD
TZOFFSETFROM:+0200
TZOFFSETTO:+0100
TZNAME:CET
DTSTART:20191027T010000
END:STANDARD
BEGIN:DAYLIGHT
TZOFFSETFROM:+0100
TZOFFSETTO:+0200
TZNAME:CEST
DTSTART:20200329T010000
END:DAYLIGHT
BEGIN:STANDARD
TZOFFSETFROM:+0200
TZOFFSETTO:+0100
TZNAME:CET
DTSTART:20201025T010000
END:STANDARD
BEGIN:DAYLIGHT
TZOFFSETFROM:+0100
TZOFFSETTO:+0200
TZNAME:CEST
DTSTART:20210328T010000
END:DAYLIGHT
BEGIN:STANDARD
TZOFFSETFROM:+0200
TZOFFSETTO:+0100
TZNAME:CET
DTSTART:20211031T010000
END:STANDARD
BEGIN:DAYLIGHT
TZOFFSETFROM:+0100
TZOFFSETTO:+0200
TZNAME:CEST
DTSTART:20220327T010000
END:DAYLIGHT
BEGIN:STANDARD
TZOFFSETFROM:+0200
TZOFFSETTO:+0100
TZNAME:CET
DTSTART:20221030T010000
END:STANDARD
BEGIN:DAYLIGHT
TZOFFSETFROM:+0100
TZOFFSETTO:+0200
TZNAME:CEST
DTSTART:20230326T010000
END:DAYLIGHT
BEGIN:STANDARD
TZOFFSETFROM:+0200
TZOFFSETTO:+0100
TZNAME:CET
DTSTART:20231029T010000
END:STANDARD
END:VTIMEZONE
BEGIN:VEVENT
DTSTART;VALUE=DATE:20221113
DTEND;VALUE=DATE:20221202
DTSTAMP:20260421T120219
CREATED:20221021T070656Z
LAST-MODIFIED:20221021T070656Z
UID:1347-1668297600-1669939199@fountainsofjoy.nl
SUMMARY:Reis Oeganda
DESCRIPTION:
URL:https://fountainsofjoy.nl/evenement/reis-oeganda/
LOCATION:Oeganda
ORGANIZER;CN="Stichting Fountains of Joy":MAILTO:info@fountainsofjoy.nl
END:VEVENT
BEGIN:VEVENT
DTSTART;VALUE=DATE:20211201
DTEND;VALUE=DATE:20220101
DTSTAMP:20260421T120219
CREATED:20201202T134727Z
LAST-MODIFIED:20201202T134727Z
UID:391-1638316800-1640995199@fountainsofjoy.nl
SUMMARY:Reis naar Kenia\, Rwanda en Oeganda
DESCRIPTION:
URL:https://fountainsofjoy.nl/evenement/reis-naar-kenia-rwanda-en-oeganda/
ORGANIZER;CN="Stichting Fountains of Joy":MAILTO:info@fountainsofjoy.nl
END:VEVENT
BEGIN:VEVENT
DTSTART;VALUE=DATE:20211101
DTEND;VALUE=DATE:20211201
DTSTAMP:20260421T120219
CREATED:20201202T134644Z
LAST-MODIFIED:20201202T134644Z
UID:389-1635724800-1638316799@fountainsofjoy.nl
SUMMARY:Profetische conferentie
DESCRIPTION:
URL:https://fountainsofjoy.nl/evenement/profetische-conferentie-2/
ORGANIZER;CN="Stichting Fountains of Joy":MAILTO:info@fountainsofjoy.nl
END:VEVENT
BEGIN:VEVENT
DTSTART;VALUE=DATE:20211001
DTEND;VALUE=DATE:20211101
DTSTAMP:20260421T120219
CREATED:20201202T134531Z
LAST-MODIFIED:20201202T134531Z
UID:387-1633046400-1635724799@fountainsofjoy.nl
SUMMARY:Reis naar Servië
DESCRIPTION:
URL:https://fountainsofjoy.nl/evenement/reis-naar-servie/
ORGANIZER;CN="Stichting Fountains of Joy":MAILTO:info@fountainsofjoy.nl
END:VEVENT
BEGIN:VEVENT
DTSTART;VALUE=DATE:20210501
DTEND;VALUE=DATE:20210601
DTSTAMP:20260421T120219
CREATED:20201202T134336Z
LAST-MODIFIED:20201218T142432Z
UID:383-1619827200-1622505599@fountainsofjoy.nl
SUMMARY:Reis naar Oeganda
DESCRIPTION:
URL:https://fountainsofjoy.nl/evenement/reis-naar-oeganda/
ORGANIZER;CN="Stichting Fountains of Joy":MAILTO:info@fountainsofjoy.nl
END:VEVENT
BEGIN:VEVENT
DTSTART;VALUE=DATE:20210401
DTEND;VALUE=DATE:20210402
DTSTAMP:20260421T120219
CREATED:20201202T134447Z
LAST-MODIFIED:20201218T142359Z
UID:385-1617235200-1617235200@fountainsofjoy.nl
SUMMARY:Profetische conferentie
DESCRIPTION:
URL:https://fountainsofjoy.nl/evenement/profetische-conferentie/
ORGANIZER;CN="Stichting Fountains of Joy":MAILTO:info@fountainsofjoy.nl
END:VEVENT
BEGIN:VEVENT
DTSTART;TZID=Europe/Amsterdam:20201203T100000
DTEND;TZID=Europe/Amsterdam:20201203T120000
DTSTAMP:20260421T120219
CREATED:20201202T134128Z
LAST-MODIFIED:20201202T134229Z
UID:381-1606989600-1606996800@fountainsofjoy.nl
SUMMARY:Spreekbeurt Esther
DESCRIPTION:
URL:https://fountainsofjoy.nl/evenement/spreekbeurt-esther/
LOCATION:Evangelische Gemeente Zeewolde\, Kluunpad 15\, Zeewolde\, Netherlands
END:VEVENT
END:VCALENDAR